{
 "currentVersion": 11.5,
 "serviceDescription": "Raster/HILLSHADE_NED",
 "name": "Raster/HILLSHADE_NED",
 "description": "",
 "extent": {
  "xmin": 47176.63252508095,
  "ymin": -662.1741110921139,
  "xmax": 1301112.406525086,
  "ymax": 734474.8977888564,
  "spatialReference": {
   "wkid": 2868,
   "latestWkid": 2868
  }
 },
 "initialExtent": {
  "xmin": 47176.63252508095,
  "ymin": -662.1741110921139,
  "xmax": 1301112.406525086,
  "ymax": 734474.8977888564,
  "spatialReference": {
   "wkid": 2868,
   "latestWkid": 2868
  }
 },
 "fullExtent": {
  "xmin": 47176.63252508095,
  "ymin": -662.1741110921139,
  "xmax": 1301112.406525086,
  "ymax": 734474.8977888564,
  "spatialReference": {
   "wkid": 2868,
   "latestWkid": 2868
  }
 },
 "sortableFields": "",
 "bandCount": 1,
 "pixelType": "U8",
 "minValues": [
  0
 ],
 "maxValues": [
  253
 ],
 "meanValues": [
  179.7234638643085
 ],
 "stdvValues": [
  7.214412812344473
 ],
 "serviceProperties": "Center<\/MosaicMethod>First<\/MosaicOperator>true<\/SortAscending><\/LockImageID><\/TileOrderField>0<\/TileOrderBase>0.000000<\/AvgImageSpacingX>0.000000<\/AvgImageSpacingY>0.0<\/ViewPointX>0.0<\/ViewPointY>0.0<\/ViewPointDefShiftX>0.0<\/ViewPointDefShiftY>None<\/CompressionMethod>75<\/CompressionQuality>0.010000<\/CompressionTolerance>Bilinear<\/SamplingMethod><\/ImageServiceProperties><\/ImageServer>",
 "allowedFields": "",
 "hasMultidimensions": false,
 "pixelSizeX": 98.42510000000038,
 "pixelSizeY": 98.42509999999311,
 "meanPixelSize": 29.99997047999901,
 "datasetFormat": "SDR",
 "uncompressedSize": 95155060,
 "blockWidth": 128,
 "blockHeight": 128,
 "compressionType": "LZ77",
 "bandNames": [
  "Band_1"
 ],
 "allowCopy": true,
 "allowAnalysis": true,
 "itemAccess": false,
 "inspectionCapabilities": "",
 "minPixelSize": 0,
 "maxPixelSize": 0,
 "copyrightText": "",
 "serviceDataType": "esriImageServiceDataTypeGeneric",
 "serviceSourceType": "esriImageServiceSourceTypeDataset",
 "objectIdField": "",
 "fields": [],
 "capabilities": "Mensuration,Image,Metadata",
 "defaultMosaicMethod": "Center",
 "allowedMosaicMethods": "",
 "sortField": "",
 "sortValue": null,
 "sortAscending": true,
 "mosaicOperator": "First",
 "defaultCompressionQuality": 75,
 "defaultResamplingMethod": "Bilinear",
 "maxImageHeight": 4100,
 "maxImageWidth": 15000,
 "allowRasterFunction": true,
 "rasterFunctionInfos": [
  {
   "name": "None",
   "description": "",
   "help": ""
  }
 ],
 "rasterTypeInfos": [
  {
   "name": "Raster Dataset",
   "description": "Supports all ArcGIS Raster Datasets",
   "help": ""
  }
 ],
 "mensurationCapabilities": "Basic",
 "hasHistograms": true,
 "hasColormap": false,
 "hasRasterAttributeTable": true,
 "minScale": 0,
 "maxScale": 0,
 "exportTilesAllowed": false,
 "supportsStatistics": false,
 "supportsAdvancedQueries": false,
 "editFieldsInfo": null,
 "ownershipBasedAccessControlForRasters": null,
 "allowComputeTiePoints": false,
 "useStandardizedQueries": true,
 "advancedQueryCapabilities": {
  "useStandardizedQueries": true,
  "supportsStatistics": false,
  "supportsOrderBy": false,
  "supportsDistinct": false,
  "supportsPagination": false
 },
 "spatialReference": {
  "wkid": 2868,
  "latestWkid": 2868
 },
 "resampling": false
}
