View In:
ArcGIS JavaScript
ArcGIS Online Map Viewer
ArcGIS Earth
Service Description: Raster/HILLSHADE_NED
Name: Raster/HILLSHADE_NED
Description:
Single Fused Map Cache: false
Extent:
XMin: 47176.63252508095
YMin: -662.1741110921139
XMax: 1301112.406525086
YMax: 734474.8977888564
Spatial Reference: 2868
(2868)
LatestVCSWkid(0)
Initial Extent:
XMin: 47176.63252508095
YMin: -662.1741110921139
XMax: 1301112.406525086
YMax: 734474.8977888564
Spatial Reference: 2868
(2868)
LatestVCSWkid(0)
Full Extent:
XMin: 47176.63252508095
YMin: -662.1741110921139
XMax: 1301112.406525086
YMax: 734474.8977888564
Spatial Reference: 2868
(2868)
LatestVCSWkid(0)
Pixel Size X: 98.42510000000038
Pixel Size Y: 98.42509999999311
Band Count: 1
Pixel Type: U8
RasterFunction Infos: {"rasterFunctionInfos": [{
"name": "None",
"description": "",
"help": ""
}]}
Mensuration Capabilities: Basic
Inspection Capabilities:
Has Histograms: true
Has Colormap: false
Has Multi Dimensions : false
Rendering Rule:
Min Scale: 0
Max Scale: 0
Resampling: false
Copyright Text:
Service Data Type: esriImageServiceDataTypeGeneric
Min Values: 0
Max Values: 253
Mean Values: 179.7234638643085
Standard Deviation Values: 7.214412812344473
Object ID Field:
Fields:
None
Default Mosaic Method: Center
Allowed Mosaic Methods:
SortField:
SortValue: null
Mosaic Operator: First
Default Compression Quality: 75
Default Resampling Method: Bilinear
Max Record Count: null
Max Image Height: 4100
Max Image Width: 15000
Max Download Image Count: null
Max Mosaic Image Count: null
Allow Raster Function: true
Allow Copy: true
Allow Analysis: true
Allow Compute TiePoints: false
Supports Statistics: false
Supports Advanced Queries: false
Use StandardizedQueries: true
Raster Type Infos:
Name: Raster Dataset
Description: Supports all ArcGIS Raster Datasets
Help:
Has Raster Attribute Table: true
Edit Fields Info: null
Ownership Based AccessControl For Rasters: null
Child Resources:
Info
Raster Attribute Table
Histograms
Statistics
Key Properties
Legend
Raster Function Infos
Supported Operations:
Export Image
Identify
Measure
Compute Histograms
Compute Statistics Histograms
Get Samples
Compute Class Statistics
Query Boundary
Compute Pixel Location
Compute Angles
Validate
Project